BEGIN:VCALENDAR
VERSION:2.0
PRODID:-//Safe Clean Water LA - ECPv6.15.20//NONSGML v1.0//EN
CALSCALE:GREGORIAN
METHOD:PUBLISH
X-WR-CALNAME:Safe Clean Water LA
X-ORIGINAL-URL:https://safecleanwaterla.org
X-WR-CALDESC:Events for Safe Clean Water LA
REFRESH-INTERVAL;VALUE=DURATION:PT1H
X-Robots-Tag:noindex
X-PUBLISHED-TTL:PT1H
BEGIN:VTIMEZONE
TZID:America/Los_Angeles
BEGIN:DAYLIGHT
TZOFFSETFROM:-0800
TZOFFSETTO:-0700
TZNAME:PDT
DTSTART:20250309T100000
END:DAYLIGHT
BEGIN:STANDARD
TZOFFSETFROM:-0700
TZOFFSETTO:-0800
TZNAME:PST
DTSTART:20251102T090000
END:STANDARD
BEGIN:DAYLIGHT
TZOFFSETFROM:-0800
TZOFFSETTO:-0700
TZNAME:PDT
DTSTART:20260308T100000
END:DAYLIGHT
BEGIN:STANDARD
TZOFFSETFROM:-0700
TZOFFSETTO:-0800
TZNAME:PST
DTSTART:20261101T090000
END:STANDARD
BEGIN:DAYLIGHT
TZOFFSETFROM:-0800
TZOFFSETTO:-0700
TZNAME:PDT
DTSTART:20270314T100000
END:DAYLIGHT
BEGIN:STANDARD
TZOFFSETFROM:-0700
TZOFFSETTO:-0800
TZNAME:PST
DTSTART:20271107T090000
END:STANDARD
END:VTIMEZONE
BEGIN:VEVENT
DTSTART;TZID=America/Los_Angeles:20260502T090000
DTEND;TZID=America/Los_Angeles:20260502T130000
DTSTAMP:20260422T004308
CREATED:20260307T035235Z
LAST-MODIFIED:20260422T060736Z
UID:10003924-1777712400-1777726800@safecleanwaterla.org
SUMMARY:Envirofest 2026
DESCRIPTION:Join the Culver City Environmental Programs and Operations (EPO) Division of Public Works in celebrating Arbor Day\, Earth Day\, and International Composting Week with Enviro-fest! Please join us at the Veterans Park and the Wende Museum.
URL:https://safecleanwaterla.org/event/envirofest-2026/
LOCATION:The Wende Museum\, 10808 Culver Blvd\, Culver City\, CA\, United States
GEO:34.011829;-118.404236
X-APPLE-STRUCTURED-LOCATION;VALUE=URI;X-ADDRESS=The Wende Museum 10808 Culver Blvd Culver City CA United States;X-APPLE-RADIUS=500;X-TITLE=10808 Culver Blvd:geo:-118.404236,34.011829
END:VEVENT
END:VCALENDAR