BEGIN:VCALENDAR
VERSION:2.0
PRODID:-//Safe Clean Water LA - ECPv6.15.20//NONSGML v1.0//EN
CALSCALE:GREGORIAN
METHOD:PUBLISH
X-ORIGINAL-URL:https://safecleanwaterla.org
X-WR-CALDESC:Events for Safe Clean Water LA
REFRESH-INTERVAL;VALUE=DURATION:PT1H
X-Robots-Tag:noindex
X-PUBLISHED-TTL:PT1H
BEGIN:VTIMEZONE
TZID:America/Los_Angeles
BEGIN:DAYLIGHT
TZOFFSETFROM:-0800
TZOFFSETTO:-0700
TZNAME:PDT
DTSTART:20240310T100000
END:DAYLIGHT
BEGIN:STANDARD
TZOFFSETFROM:-0700
TZOFFSETTO:-0800
TZNAME:PST
DTSTART:20241103T090000
END:STANDARD
BEGIN:DAYLIGHT
TZOFFSETFROM:-0800
TZOFFSETTO:-0700
TZNAME:PDT
DTSTART:20250309T100000
END:DAYLIGHT
BEGIN:STANDARD
TZOFFSETFROM:-0700
TZOFFSETTO:-0800
TZNAME:PST
DTSTART:20251102T090000
END:STANDARD
BEGIN:DAYLIGHT
TZOFFSETFROM:-0800
TZOFFSETTO:-0700
TZNAME:PDT
DTSTART:20260308T100000
END:DAYLIGHT
BEGIN:STANDARD
TZOFFSETFROM:-0700
TZOFFSETTO:-0800
TZNAME:PST
DTSTART:20261101T090000
END:STANDARD
END:VTIMEZONE
BEGIN:VEVENT
DTSTART;TZID=America/Los_Angeles:20250503T090000
DTEND;TZID=America/Los_Angeles:20250503T130000
DTSTAMP:20260422T021537
CREATED:20250318T082236Z
LAST-MODIFIED:20250503T095235Z
UID:10003164-1746262800-1746277200@safecleanwaterla.org
SUMMARY:Culver City Enviro-Fest
DESCRIPTION:Join the Environmental Programs and Operations (EPO) Division of Public Works in celebrating Arbor Day\, Earth Day\, and International Composting Week with Enviro-fest! Please join us at the Wende Museum and participate in educational activities and sustainable giveaways.
URL:https://safecleanwaterla.org/event/culver-city-enviro-fest/
LOCATION:The Wende Museum\, 10808 Culver Blvd\, Culver City\, CA\, United States
GEO:34.011829;-118.404236
X-APPLE-STRUCTURED-LOCATION;VALUE=URI;X-ADDRESS=The Wende Museum 10808 Culver Blvd Culver City CA United States;X-APPLE-RADIUS=500;X-TITLE=10808 Culver Blvd:geo:-118.404236,34.011829
END:VEVENT
END:VCALENDAR