BEGIN:VCALENDAR
VERSION:2.0
PRODID:-//Safe Clean Water LA - ECPv6.15.20//NONSGML v1.0//EN
CALSCALE:GREGORIAN
METHOD:PUBLISH
X-ORIGINAL-URL:https://safecleanwaterla.org
X-WR-CALDESC:Events for Safe Clean Water LA
REFRESH-INTERVAL;VALUE=DURATION:PT1H
X-Robots-Tag:noindex
X-PUBLISHED-TTL:PT1H
BEGIN:VTIMEZONE
TZID:America/Los_Angeles
BEGIN:DAYLIGHT
TZOFFSETFROM:-0800
TZOFFSETTO:-0700
TZNAME:PDT
DTSTART:20230312T100000
END:DAYLIGHT
BEGIN:STANDARD
TZOFFSETFROM:-0700
TZOFFSETTO:-0800
TZNAME:PST
DTSTART:20231105T090000
END:STANDARD
BEGIN:DAYLIGHT
TZOFFSETFROM:-0800
TZOFFSETTO:-0700
TZNAME:PDT
DTSTART:20240310T100000
END:DAYLIGHT
BEGIN:STANDARD
TZOFFSETFROM:-0700
TZOFFSETTO:-0800
TZNAME:PST
DTSTART:20241103T090000
END:STANDARD
BEGIN:DAYLIGHT
TZOFFSETFROM:-0800
TZOFFSETTO:-0700
TZNAME:PDT
DTSTART:20250309T100000
END:DAYLIGHT
BEGIN:STANDARD
TZOFFSETFROM:-0700
TZOFFSETTO:-0800
TZNAME:PST
DTSTART:20251102T090000
END:STANDARD
END:VTIMEZONE
BEGIN:VEVENT
DTSTART;TZID=America/Los_Angeles:20240320T090000
DTEND;TZID=America/Los_Angeles:20240320T120000
DTSTAMP:20260420T105211
CREATED:20240125T125548Z
LAST-MODIFIED:20240208T083805Z
UID:10000124-1710925200-1710936000@safecleanwaterla.org
SUMMARY:PCNC Docent Enrichment
DESCRIPTION:
URL:https://safecleanwaterla.org/event/pcnc-docent-enrichment/
LOCATION:Placerita Canyon Nature Center\, 19152 Placerita Canyon Rd\, Newhall\, CA\, United States
CATEGORIES:Info Session
GEO:34.378442;-118.438575
X-APPLE-STRUCTURED-LOCATION;VALUE=URI;X-ADDRESS=Placerita Canyon Nature Center 19152 Placerita Canyon Rd Newhall CA United States;X-APPLE-RADIUS=500;X-TITLE=19152 Placerita Canyon Rd:geo:-118.438575,34.378442
END:VEVENT
END:VCALENDAR