BEGIN:VCALENDAR
VERSION:2.0
PRODID:-//Safe Clean Water LA - ECPv6.15.20//NONSGML v1.0//EN
CALSCALE:GREGORIAN
METHOD:PUBLISH
X-ORIGINAL-URL:https://safecleanwaterla.org
X-WR-CALDESC:Events for Safe Clean Water LA
REFRESH-INTERVAL;VALUE=DURATION:PT1H
X-Robots-Tag:noindex
X-PUBLISHED-TTL:PT1H
BEGIN:VTIMEZONE
TZID:America/Los_Angeles
BEGIN:DAYLIGHT
TZOFFSETFROM:-0800
TZOFFSETTO:-0700
TZNAME:PDT
DTSTART:20240310T100000
END:DAYLIGHT
BEGIN:STANDARD
TZOFFSETFROM:-0700
TZOFFSETTO:-0800
TZNAME:PST
DTSTART:20241103T090000
END:STANDARD
BEGIN:DAYLIGHT
TZOFFSETFROM:-0800
TZOFFSETTO:-0700
TZNAME:PDT
DTSTART:20250309T100000
END:DAYLIGHT
BEGIN:STANDARD
TZOFFSETFROM:-0700
TZOFFSETTO:-0800
TZNAME:PST
DTSTART:20251102T090000
END:STANDARD
BEGIN:DAYLIGHT
TZOFFSETFROM:-0800
TZOFFSETTO:-0700
TZNAME:PDT
DTSTART:20260308T100000
END:DAYLIGHT
BEGIN:STANDARD
TZOFFSETFROM:-0700
TZOFFSETTO:-0800
TZNAME:PST
DTSTART:20261101T090000
END:STANDARD
END:VTIMEZONE
BEGIN:VEVENT
DTSTART;TZID=America/Los_Angeles:20250802T190000
DTEND;TZID=America/Los_Angeles:20250802T210000
DTSTAMP:20260424T003206
CREATED:20250724T140730Z
LAST-MODIFIED:20250802T073731Z
UID:10003761-1754161200-1754168400@safecleanwaterla.org
SUMMARY:USGR: Outreach Booth In Pomona
DESCRIPTION:The USGR Watershed Coordinator will hold a SCWP Outreach Booth at the Movies in the Park event in Pomona. Information on the SCWP will be shared in addition to information on nearby projects. The WC will also collect community feedback and implement the Community Strengths and Needs Assessment Survey. For more information\, contact James and james@godayone.org.
URL:https://safecleanwaterla.org/event/usgr-outreach-booth-in-pomona/
LOCATION:Martin Luther King Junior Memorial Park\, 300 W Lexington Ave\, Pomona\, CA\, United States
GEO:34.036839;-117.753761
X-APPLE-STRUCTURED-LOCATION;VALUE=URI;X-ADDRESS=Martin Luther King Junior Memorial Park 300 W Lexington Ave Pomona CA United States;X-APPLE-RADIUS=500;X-TITLE=300 W Lexington Ave:geo:-117.753761,34.036839
END:VEVENT
END:VCALENDAR