BEGIN:VCALENDAR
VERSION:2.0
PRODID:-//Safe Clean Water LA - ECPv6.15.20//NONSGML v1.0//EN
CALSCALE:GREGORIAN
METHOD:PUBLISH
X-WR-CALNAME:Safe Clean Water LA
X-ORIGINAL-URL:https://safecleanwaterla.org
X-WR-CALDESC:Events for Safe Clean Water LA
REFRESH-INTERVAL;VALUE=DURATION:PT1H
X-Robots-Tag:noindex
X-PUBLISHED-TTL:PT1H
BEGIN:VTIMEZONE
TZID:America/Los_Angeles
BEGIN:DAYLIGHT
TZOFFSETFROM:-0800
TZOFFSETTO:-0700
TZNAME:PDT
DTSTART:20240310T100000
END:DAYLIGHT
BEGIN:STANDARD
TZOFFSETFROM:-0700
TZOFFSETTO:-0800
TZNAME:PST
DTSTART:20241103T090000
END:STANDARD
BEGIN:DAYLIGHT
TZOFFSETFROM:-0800
TZOFFSETTO:-0700
TZNAME:PDT
DTSTART:20250309T100000
END:DAYLIGHT
BEGIN:STANDARD
TZOFFSETFROM:-0700
TZOFFSETTO:-0800
TZNAME:PST
DTSTART:20251102T090000
END:STANDARD
BEGIN:DAYLIGHT
TZOFFSETFROM:-0800
TZOFFSETTO:-0700
TZNAME:PDT
DTSTART:20260308T100000
END:DAYLIGHT
BEGIN:STANDARD
TZOFFSETFROM:-0700
TZOFFSETTO:-0800
TZNAME:PST
DTSTART:20261101T090000
END:STANDARD
END:VTIMEZONE
BEGIN:VEVENT
DTSTART;TZID=America/Los_Angeles:20250927T110000
DTEND;TZID=America/Los_Angeles:20250927T150000
DTSTAMP:20260424T175501
CREATED:20250916T095234Z
LAST-MODIFIED:20250916T145654Z
UID:10003805-1758970800-1758985200@safecleanwaterla.org
SUMMARY:USGR: Community Outreach Event at Encanto Park
DESCRIPTION:The USGR Watershed Coordinator will hold an Outreach Booth at the City of Duarte’s Annual Picnic at Encanto Park. The WC will share SCWP resources\, information about nearby projects\, and collect community feedback. For more information contact\, the USGR Watershed Coordinator.
URL:https://safecleanwaterla.org/event/usgr-community-outreach-event-at-encanto-park-2/
LOCATION:Encanto Park in Duarte
END:VEVENT
END:VCALENDAR