BEGIN:VCALENDAR
VERSION:2.0
PRODID:-//Safe Clean Water LA - ECPv6.15.20//NONSGML v1.0//EN
CALSCALE:GREGORIAN
METHOD:PUBLISH
X-WR-CALNAME:Safe Clean Water LA
X-ORIGINAL-URL:https://safecleanwaterla.org
X-WR-CALDESC:Events for Safe Clean Water LA
REFRESH-INTERVAL;VALUE=DURATION:PT1H
X-Robots-Tag:noindex
X-PUBLISHED-TTL:PT1H
BEGIN:VTIMEZONE
TZID:America/Los_Angeles
BEGIN:DAYLIGHT
TZOFFSETFROM:-0800
TZOFFSETTO:-0700
TZNAME:PDT
DTSTART:20230312T100000
END:DAYLIGHT
BEGIN:STANDARD
TZOFFSETFROM:-0700
TZOFFSETTO:-0800
TZNAME:PST
DTSTART:20231105T090000
END:STANDARD
BEGIN:DAYLIGHT
TZOFFSETFROM:-0800
TZOFFSETTO:-0700
TZNAME:PDT
DTSTART:20240310T100000
END:DAYLIGHT
BEGIN:STANDARD
TZOFFSETFROM:-0700
TZOFFSETTO:-0800
TZNAME:PST
DTSTART:20241103T090000
END:STANDARD
BEGIN:DAYLIGHT
TZOFFSETFROM:-0800
TZOFFSETTO:-0700
TZNAME:PDT
DTSTART:20250309T100000
END:DAYLIGHT
BEGIN:STANDARD
TZOFFSETFROM:-0700
TZOFFSETTO:-0800
TZNAME:PST
DTSTART:20251102T090000
END:STANDARD
END:VTIMEZONE
BEGIN:VEVENT
DTSTART;TZID=America/Los_Angeles:20241010T100000
DTEND;TZID=America/Los_Angeles:20241010T113000
DTSTAMP:20260423T025017
CREATED:20240914T080730Z
LAST-MODIFIED:20241010T082233Z
UID:10002641-1728554400-1728559800@safecleanwaterla.org
SUMMARY:ULAR: Tour of Echo Park Lake Water Quality Features
DESCRIPTION:Join us for a tour of Echo Park Lake’s water quality features\, led by LA Sanitation (LASAN). During the tour\, LASAN staff will share insights on Best Management Practices used to address local water pollution\, funded by the Safe\, Clean Water Program\, which was adopted by LA voters in 2018.\nThe tour will begin at the corner of Echo Park Ave. and Park Ave. The path around the lake is 1 mile long\, so be sure to wear comfortable shoes. Please note that parking is limited\, so carpooling and the use of public transportation are strongly encouraged.\n10:00am – 10:20am: Welcome\n10:20am – 10:40am: Overview of the Echo Park Lake Ecosystem\n10:40am – 11:30am: Guided walk around Echo Park Lake with stops at BMP locations\n11:30am: Closing remarks & return to first site
URL:https://safecleanwaterla.org/event/ular-tour-of-echo-park-lake-water-quality-features/
LOCATION:Echo Park Ave & Park Ave\, Los Angeles\, CA\, United States
GEO:34.077906;-118.261739
END:VEVENT
END:VCALENDAR