BEGIN:VCALENDAR
VERSION:2.0
PRODID:-//Safe Clean Water LA - ECPv6.15.20//NONSGML v1.0//EN
CALSCALE:GREGORIAN
METHOD:PUBLISH
X-WR-CALNAME:Safe Clean Water LA
X-ORIGINAL-URL:https://safecleanwaterla.org
X-WR-CALDESC:Events for Safe Clean Water LA
REFRESH-INTERVAL;VALUE=DURATION:PT1H
X-Robots-Tag:noindex
X-PUBLISHED-TTL:PT1H
BEGIN:VTIMEZONE
TZID:America/Los_Angeles
BEGIN:DAYLIGHT
TZOFFSETFROM:-0800
TZOFFSETTO:-0700
TZNAME:PDT
DTSTART:20280312T100000
END:DAYLIGHT
BEGIN:STANDARD
TZOFFSETFROM:-0700
TZOFFSETTO:-0800
TZNAME:PST
DTSTART:20281105T090000
END:STANDARD
BEGIN:DAYLIGHT
TZOFFSETFROM:-0800
TZOFFSETTO:-0700
TZNAME:PDT
DTSTART:20290311T100000
END:DAYLIGHT
BEGIN:STANDARD
TZOFFSETFROM:-0700
TZOFFSETTO:-0800
TZNAME:PST
DTSTART:20291104T090000
END:STANDARD
BEGIN:DAYLIGHT
TZOFFSETFROM:-0800
TZOFFSETTO:-0700
TZNAME:PDT
DTSTART:20300310T100000
END:DAYLIGHT
BEGIN:STANDARD
TZOFFSETFROM:-0700
TZOFFSETTO:-0800
TZNAME:PST
DTSTART:20301103T090000
END:STANDARD
BEGIN:DAYLIGHT
TZOFFSETFROM:-0800
TZOFFSETTO:-0700
TZNAME:PDT
DTSTART:20310309T100000
END:DAYLIGHT
BEGIN:STANDARD
TZOFFSETFROM:-0700
TZOFFSETTO:-0800
TZNAME:PST
DTSTART:20311102T090000
END:STANDARD
BEGIN:DAYLIGHT
TZOFFSETFROM:-0800
TZOFFSETTO:-0700
TZNAME:PDT
DTSTART:20320314T100000
END:DAYLIGHT
BEGIN:STANDARD
TZOFFSETFROM:-0700
TZOFFSETTO:-0800
TZNAME:PST
DTSTART:20321107T090000
END:STANDARD
END:VTIMEZONE
BEGIN:VEVENT
DTSTART;TZID=America/Los_Angeles:20290501T130000
DTEND;TZID=America/Los_Angeles:20290501T150000
DTSTAMP:20260420T184600
CREATED:20240222T051347Z
LAST-MODIFIED:20240307T060523Z
UID:10002436-1872334800-1872342000@safecleanwaterla.org
SUMMARY:Central Santa Monica Bay WASC Meeting
DESCRIPTION:Watershed Area Steering Committees (WASCs) are comprised of representatives from cities\, agencies\, and community stakeholders. They meet regularly to review proposed projects and develop investment plans for their watershed.  Visit the Central Santa Monica Bay WASC page for more information. \nCommittee Members are expected to attend the meeting in-person.  Members of the public may participate in-person or online by using the Webex meeting information provided.
URL:https://safecleanwaterla.org/event/central-santa-monica-bay-wasc-meeting/2029-05-01/
LOCATION:Culver City Hall\, Patacchia Room\,\, 9770 Culver Blvd\, Culver City\, CA\, 90232
GEO:34.021172513573;-118.39537591489
X-APPLE-STRUCTURED-LOCATION;VALUE=URI;X-ADDRESS=Culver City Hall Patacchia Room 9770 Culver Blvd Culver City CA 90232;X-APPLE-RADIUS=500;X-TITLE=9770 Culver Blvd:geo:-118.39537591489,34.021172513573
END:VEVENT
BEGIN:VEVENT
DTSTART;TZID=America/Los_Angeles:20290605T130000
DTEND;TZID=America/Los_Angeles:20290605T150000
DTSTAMP:20260420T184600
CREATED:20240222T051347Z
LAST-MODIFIED:20240307T060523Z
UID:10002484-1875358800-1875366000@safecleanwaterla.org
SUMMARY:Central Santa Monica Bay WASC Meeting
DESCRIPTION:Watershed Area Steering Committees (WASCs) are comprised of representatives from cities\, agencies\, and community stakeholders. They meet regularly to review proposed projects and develop investment plans for their watershed.  Visit the Central Santa Monica Bay WASC page for more information. \nCommittee Members are expected to attend the meeting in-person.  Members of the public may participate in-person or online by using the Webex meeting information provided.
URL:https://safecleanwaterla.org/event/central-santa-monica-bay-wasc-meeting/2029-06-05/
LOCATION:Culver City Hall\, Patacchia Room\,\, 9770 Culver Blvd\, Culver City\, CA\, 90232
GEO:34.021172513573;-118.39537591489
X-APPLE-STRUCTURED-LOCATION;VALUE=URI;X-ADDRESS=Culver City Hall Patacchia Room 9770 Culver Blvd Culver City CA 90232;X-APPLE-RADIUS=500;X-TITLE=9770 Culver Blvd:geo:-118.39537591489,34.021172513573
END:VEVENT
BEGIN:VEVENT
DTSTART;TZID=America/Los_Angeles:20290703T130000
DTEND;TZID=America/Los_Angeles:20290703T150000
DTSTAMP:20260420T184600
CREATED:20240222T051347Z
LAST-MODIFIED:20240307T060523Z
UID:10002615-1877778000-1877785200@safecleanwaterla.org
SUMMARY:Central Santa Monica Bay WASC Meeting
DESCRIPTION:Watershed Area Steering Committees (WASCs) are comprised of representatives from cities\, agencies\, and community stakeholders. They meet regularly to review proposed projects and develop investment plans for their watershed.  Visit the Central Santa Monica Bay WASC page for more information. \nCommittee Members are expected to attend the meeting in-person.  Members of the public may participate in-person or online by using the Webex meeting information provided.
URL:https://safecleanwaterla.org/event/central-santa-monica-bay-wasc-meeting/2029-07-03/
LOCATION:Culver City Hall\, Patacchia Room\,\, 9770 Culver Blvd\, Culver City\, CA\, 90232
GEO:34.021172513573;-118.39537591489
X-APPLE-STRUCTURED-LOCATION;VALUE=URI;X-ADDRESS=Culver City Hall Patacchia Room 9770 Culver Blvd Culver City CA 90232;X-APPLE-RADIUS=500;X-TITLE=9770 Culver Blvd:geo:-118.39537591489,34.021172513573
END:VEVENT
BEGIN:VEVENT
DTSTART;TZID=America/Los_Angeles:20290807T130000
DTEND;TZID=America/Los_Angeles:20290807T150000
DTSTAMP:20260420T184600
CREATED:20240222T051347Z
LAST-MODIFIED:20240307T060523Z
UID:10002635-1880802000-1880809200@safecleanwaterla.org
SUMMARY:Central Santa Monica Bay WASC Meeting
DESCRIPTION:Watershed Area Steering Committees (WASCs) are comprised of representatives from cities\, agencies\, and community stakeholders. They meet regularly to review proposed projects and develop investment plans for their watershed.  Visit the Central Santa Monica Bay WASC page for more information. \nCommittee Members are expected to attend the meeting in-person.  Members of the public may participate in-person or online by using the Webex meeting information provided.
URL:https://safecleanwaterla.org/event/central-santa-monica-bay-wasc-meeting/2029-08-07/
LOCATION:Culver City Hall\, Patacchia Room\,\, 9770 Culver Blvd\, Culver City\, CA\, 90232
GEO:34.021172513573;-118.39537591489
X-APPLE-STRUCTURED-LOCATION;VALUE=URI;X-ADDRESS=Culver City Hall Patacchia Room 9770 Culver Blvd Culver City CA 90232;X-APPLE-RADIUS=500;X-TITLE=9770 Culver Blvd:geo:-118.39537591489,34.021172513573
END:VEVENT
BEGIN:VEVENT
DTSTART;TZID=America/Los_Angeles:20290904T130000
DTEND;TZID=America/Los_Angeles:20290904T150000
DTSTAMP:20260420T184600
CREATED:20240222T051347Z
LAST-MODIFIED:20240307T060523Z
UID:10002651-1883221200-1883228400@safecleanwaterla.org
SUMMARY:Central Santa Monica Bay WASC Meeting
DESCRIPTION:Watershed Area Steering Committees (WASCs) are comprised of representatives from cities\, agencies\, and community stakeholders. They meet regularly to review proposed projects and develop investment plans for their watershed.  Visit the Central Santa Monica Bay WASC page for more information. \nCommittee Members are expected to attend the meeting in-person.  Members of the public may participate in-person or online by using the Webex meeting information provided.
URL:https://safecleanwaterla.org/event/central-santa-monica-bay-wasc-meeting/2029-09-04/
LOCATION:Culver City Hall\, Patacchia Room\,\, 9770 Culver Blvd\, Culver City\, CA\, 90232
GEO:34.021172513573;-118.39537591489
X-APPLE-STRUCTURED-LOCATION;VALUE=URI;X-ADDRESS=Culver City Hall Patacchia Room 9770 Culver Blvd Culver City CA 90232;X-APPLE-RADIUS=500;X-TITLE=9770 Culver Blvd:geo:-118.39537591489,34.021172513573
END:VEVENT
BEGIN:VEVENT
DTSTART;TZID=America/Los_Angeles:20291002T130000
DTEND;TZID=America/Los_Angeles:20291002T150000
DTSTAMP:20260420T184600
CREATED:20240222T051347Z
LAST-MODIFIED:20240307T060523Z
UID:10002665-1885640400-1885647600@safecleanwaterla.org
SUMMARY:Central Santa Monica Bay WASC Meeting
DESCRIPTION:Watershed Area Steering Committees (WASCs) are comprised of representatives from cities\, agencies\, and community stakeholders. They meet regularly to review proposed projects and develop investment plans for their watershed.  Visit the Central Santa Monica Bay WASC page for more information. \nCommittee Members are expected to attend the meeting in-person.  Members of the public may participate in-person or online by using the Webex meeting information provided.
URL:https://safecleanwaterla.org/event/central-santa-monica-bay-wasc-meeting/2029-10-02/
LOCATION:Culver City Hall\, Patacchia Room\,\, 9770 Culver Blvd\, Culver City\, CA\, 90232
GEO:34.021172513573;-118.39537591489
X-APPLE-STRUCTURED-LOCATION;VALUE=URI;X-ADDRESS=Culver City Hall Patacchia Room 9770 Culver Blvd Culver City CA 90232;X-APPLE-RADIUS=500;X-TITLE=9770 Culver Blvd:geo:-118.39537591489,34.021172513573
END:VEVENT
BEGIN:VEVENT
DTSTART;TZID=America/Los_Angeles:20291106T130000
DTEND;TZID=America/Los_Angeles:20291106T150000
DTSTAMP:20260420T184600
CREATED:20240222T051347Z
LAST-MODIFIED:20240307T060523Z
UID:10002696-1888664400-1888671600@safecleanwaterla.org
SUMMARY:Central Santa Monica Bay WASC Meeting
DESCRIPTION:Watershed Area Steering Committees (WASCs) are comprised of representatives from cities\, agencies\, and community stakeholders. They meet regularly to review proposed projects and develop investment plans for their watershed.  Visit the Central Santa Monica Bay WASC page for more information. \nCommittee Members are expected to attend the meeting in-person.  Members of the public may participate in-person or online by using the Webex meeting information provided.
URL:https://safecleanwaterla.org/event/central-santa-monica-bay-wasc-meeting/2029-11-06/
LOCATION:Culver City Hall\, Patacchia Room\,\, 9770 Culver Blvd\, Culver City\, CA\, 90232
GEO:34.021172513573;-118.39537591489
X-APPLE-STRUCTURED-LOCATION;VALUE=URI;X-ADDRESS=Culver City Hall Patacchia Room 9770 Culver Blvd Culver City CA 90232;X-APPLE-RADIUS=500;X-TITLE=9770 Culver Blvd:geo:-118.39537591489,34.021172513573
END:VEVENT
BEGIN:VEVENT
DTSTART;TZID=America/Los_Angeles:20291204T130000
DTEND;TZID=America/Los_Angeles:20291204T150000
DTSTAMP:20260420T184600
CREATED:20240222T051347Z
LAST-MODIFIED:20240307T060523Z
UID:10002834-1891083600-1891090800@safecleanwaterla.org
SUMMARY:Central Santa Monica Bay WASC Meeting
DESCRIPTION:Watershed Area Steering Committees (WASCs) are comprised of representatives from cities\, agencies\, and community stakeholders. They meet regularly to review proposed projects and develop investment plans for their watershed.  Visit the Central Santa Monica Bay WASC page for more information. \nCommittee Members are expected to attend the meeting in-person.  Members of the public may participate in-person or online by using the Webex meeting information provided.
URL:https://safecleanwaterla.org/event/central-santa-monica-bay-wasc-meeting/2029-12-04/
LOCATION:Culver City Hall\, Patacchia Room\,\, 9770 Culver Blvd\, Culver City\, CA\, 90232
GEO:34.021172513573;-118.39537591489
X-APPLE-STRUCTURED-LOCATION;VALUE=URI;X-ADDRESS=Culver City Hall Patacchia Room 9770 Culver Blvd Culver City CA 90232;X-APPLE-RADIUS=500;X-TITLE=9770 Culver Blvd:geo:-118.39537591489,34.021172513573
END:VEVENT
BEGIN:VEVENT
DTSTART;TZID=America/Los_Angeles:20300101T130000
DTEND;TZID=America/Los_Angeles:20300101T150000
DTSTAMP:20260420T184600
CREATED:20240222T051347Z
LAST-MODIFIED:20240307T060523Z
UID:10002996-1893502800-1893510000@safecleanwaterla.org
SUMMARY:Central Santa Monica Bay WASC Meeting
DESCRIPTION:Watershed Area Steering Committees (WASCs) are comprised of representatives from cities\, agencies\, and community stakeholders. They meet regularly to review proposed projects and develop investment plans for their watershed.  Visit the Central Santa Monica Bay WASC page for more information. \nCommittee Members are expected to attend the meeting in-person.  Members of the public may participate in-person or online by using the Webex meeting information provided.
URL:https://safecleanwaterla.org/event/central-santa-monica-bay-wasc-meeting/2030-01-01/
LOCATION:Culver City Hall\, Patacchia Room\,\, 9770 Culver Blvd\, Culver City\, CA\, 90232
GEO:34.021172513573;-118.39537591489
X-APPLE-STRUCTURED-LOCATION;VALUE=URI;X-ADDRESS=Culver City Hall Patacchia Room 9770 Culver Blvd Culver City CA 90232;X-APPLE-RADIUS=500;X-TITLE=9770 Culver Blvd:geo:-118.39537591489,34.021172513573
END:VEVENT
BEGIN:VEVENT
DTSTART;TZID=America/Los_Angeles:20300205T130000
DTEND;TZID=America/Los_Angeles:20300205T150000
DTSTAMP:20260420T184600
CREATED:20240222T051347Z
LAST-MODIFIED:20240307T060523Z
UID:10003137-1896526800-1896534000@safecleanwaterla.org
SUMMARY:Central Santa Monica Bay WASC Meeting
DESCRIPTION:Watershed Area Steering Committees (WASCs) are comprised of representatives from cities\, agencies\, and community stakeholders. They meet regularly to review proposed projects and develop investment plans for their watershed.  Visit the Central Santa Monica Bay WASC page for more information. \nCommittee Members are expected to attend the meeting in-person.  Members of the public may participate in-person or online by using the Webex meeting information provided.
URL:https://safecleanwaterla.org/event/central-santa-monica-bay-wasc-meeting/2030-02-05/
LOCATION:Culver City Hall\, Patacchia Room\,\, 9770 Culver Blvd\, Culver City\, CA\, 90232
GEO:34.021172513573;-118.39537591489
X-APPLE-STRUCTURED-LOCATION;VALUE=URI;X-ADDRESS=Culver City Hall Patacchia Room 9770 Culver Blvd Culver City CA 90232;X-APPLE-RADIUS=500;X-TITLE=9770 Culver Blvd:geo:-118.39537591489,34.021172513573
END:VEVENT
BEGIN:VEVENT
DTSTART;TZID=America/Los_Angeles:20300305T130000
DTEND;TZID=America/Los_Angeles:20300305T150000
DTSTAMP:20260420T184600
CREATED:20240222T051347Z
LAST-MODIFIED:20240307T060523Z
UID:10003154-1898946000-1898953200@safecleanwaterla.org
SUMMARY:Central Santa Monica Bay WASC Meeting
DESCRIPTION:Watershed Area Steering Committees (WASCs) are comprised of representatives from cities\, agencies\, and community stakeholders. They meet regularly to review proposed projects and develop investment plans for their watershed.  Visit the Central Santa Monica Bay WASC page for more information. \nCommittee Members are expected to attend the meeting in-person.  Members of the public may participate in-person or online by using the Webex meeting information provided.
URL:https://safecleanwaterla.org/event/central-santa-monica-bay-wasc-meeting/2030-03-05/
LOCATION:Culver City Hall\, Patacchia Room\,\, 9770 Culver Blvd\, Culver City\, CA\, 90232
GEO:34.021172513573;-118.39537591489
X-APPLE-STRUCTURED-LOCATION;VALUE=URI;X-ADDRESS=Culver City Hall Patacchia Room 9770 Culver Blvd Culver City CA 90232;X-APPLE-RADIUS=500;X-TITLE=9770 Culver Blvd:geo:-118.39537591489,34.021172513573
END:VEVENT
BEGIN:VEVENT
DTSTART;TZID=America/Los_Angeles:20300402T130000
DTEND;TZID=America/Los_Angeles:20300402T150000
DTSTAMP:20260420T184600
CREATED:20240222T051347Z
LAST-MODIFIED:20240307T060523Z
UID:10003369-1901365200-1901372400@safecleanwaterla.org
SUMMARY:Central Santa Monica Bay WASC Meeting
DESCRIPTION:Watershed Area Steering Committees (WASCs) are comprised of representatives from cities\, agencies\, and community stakeholders. They meet regularly to review proposed projects and develop investment plans for their watershed.  Visit the Central Santa Monica Bay WASC page for more information. \nCommittee Members are expected to attend the meeting in-person.  Members of the public may participate in-person or online by using the Webex meeting information provided.
URL:https://safecleanwaterla.org/event/central-santa-monica-bay-wasc-meeting/2030-04-02/
LOCATION:Culver City Hall\, Patacchia Room\,\, 9770 Culver Blvd\, Culver City\, CA\, 90232
GEO:34.021172513573;-118.39537591489
X-APPLE-STRUCTURED-LOCATION;VALUE=URI;X-ADDRESS=Culver City Hall Patacchia Room 9770 Culver Blvd Culver City CA 90232;X-APPLE-RADIUS=500;X-TITLE=9770 Culver Blvd:geo:-118.39537591489,34.021172513573
END:VEVENT
BEGIN:VEVENT
DTSTART;TZID=America/Los_Angeles:20300507T130000
DTEND;TZID=America/Los_Angeles:20300507T150000
DTSTAMP:20260420T184600
CREATED:20240222T051347Z
LAST-MODIFIED:20240307T060523Z
UID:10003728-1904389200-1904396400@safecleanwaterla.org
SUMMARY:Central Santa Monica Bay WASC Meeting
DESCRIPTION:Watershed Area Steering Committees (WASCs) are comprised of representatives from cities\, agencies\, and community stakeholders. They meet regularly to review proposed projects and develop investment plans for their watershed.  Visit the Central Santa Monica Bay WASC page for more information. \nCommittee Members are expected to attend the meeting in-person.  Members of the public may participate in-person or online by using the Webex meeting information provided.
URL:https://safecleanwaterla.org/event/central-santa-monica-bay-wasc-meeting/2030-05-07/
LOCATION:Culver City Hall\, Patacchia Room\,\, 9770 Culver Blvd\, Culver City\, CA\, 90232
GEO:34.021172513573;-118.39537591489
X-APPLE-STRUCTURED-LOCATION;VALUE=URI;X-ADDRESS=Culver City Hall Patacchia Room 9770 Culver Blvd Culver City CA 90232;X-APPLE-RADIUS=500;X-TITLE=9770 Culver Blvd:geo:-118.39537591489,34.021172513573
END:VEVENT
BEGIN:VEVENT
DTSTART;TZID=America/Los_Angeles:20300604T130000
DTEND;TZID=America/Los_Angeles:20300604T150000
DTSTAMP:20260420T184600
CREATED:20240222T051347Z
LAST-MODIFIED:20240307T060523Z
UID:10003739-1906808400-1906815600@safecleanwaterla.org
SUMMARY:Central Santa Monica Bay WASC Meeting
DESCRIPTION:Watershed Area Steering Committees (WASCs) are comprised of representatives from cities\, agencies\, and community stakeholders. They meet regularly to review proposed projects and develop investment plans for their watershed.  Visit the Central Santa Monica Bay WASC page for more information. \nCommittee Members are expected to attend the meeting in-person.  Members of the public may participate in-person or online by using the Webex meeting information provided.
URL:https://safecleanwaterla.org/event/central-santa-monica-bay-wasc-meeting/2030-06-04/
LOCATION:Culver City Hall\, Patacchia Room\,\, 9770 Culver Blvd\, Culver City\, CA\, 90232
GEO:34.021172513573;-118.39537591489
X-APPLE-STRUCTURED-LOCATION;VALUE=URI;X-ADDRESS=Culver City Hall Patacchia Room 9770 Culver Blvd Culver City CA 90232;X-APPLE-RADIUS=500;X-TITLE=9770 Culver Blvd:geo:-118.39537591489,34.021172513573
END:VEVENT
BEGIN:VEVENT
DTSTART;TZID=America/Los_Angeles:20300702T130000
DTEND;TZID=America/Los_Angeles:20300702T150000
DTSTAMP:20260420T184600
CREATED:20240222T051347Z
LAST-MODIFIED:20240307T060523Z
UID:10003760-1909227600-1909234800@safecleanwaterla.org
SUMMARY:Central Santa Monica Bay WASC Meeting
DESCRIPTION:Watershed Area Steering Committees (WASCs) are comprised of representatives from cities\, agencies\, and community stakeholders. They meet regularly to review proposed projects and develop investment plans for their watershed.  Visit the Central Santa Monica Bay WASC page for more information. \nCommittee Members are expected to attend the meeting in-person.  Members of the public may participate in-person or online by using the Webex meeting information provided.
URL:https://safecleanwaterla.org/event/central-santa-monica-bay-wasc-meeting/2030-07-02/
LOCATION:Culver City Hall\, Patacchia Room\,\, 9770 Culver Blvd\, Culver City\, CA\, 90232
GEO:34.021172513573;-118.39537591489
X-APPLE-STRUCTURED-LOCATION;VALUE=URI;X-ADDRESS=Culver City Hall Patacchia Room 9770 Culver Blvd Culver City CA 90232;X-APPLE-RADIUS=500;X-TITLE=9770 Culver Blvd:geo:-118.39537591489,34.021172513573
END:VEVENT
BEGIN:VEVENT
DTSTART;TZID=America/Los_Angeles:20300806T130000
DTEND;TZID=America/Los_Angeles:20300806T150000
DTSTAMP:20260420T184600
CREATED:20240222T051347Z
LAST-MODIFIED:20240307T060523Z
UID:10003772-1912251600-1912258800@safecleanwaterla.org
SUMMARY:Central Santa Monica Bay WASC Meeting
DESCRIPTION:Watershed Area Steering Committees (WASCs) are comprised of representatives from cities\, agencies\, and community stakeholders. They meet regularly to review proposed projects and develop investment plans for their watershed.  Visit the Central Santa Monica Bay WASC page for more information. \nCommittee Members are expected to attend the meeting in-person.  Members of the public may participate in-person or online by using the Webex meeting information provided.
URL:https://safecleanwaterla.org/event/central-santa-monica-bay-wasc-meeting/2030-08-06/
LOCATION:Culver City Hall\, Patacchia Room\,\, 9770 Culver Blvd\, Culver City\, CA\, 90232
GEO:34.021172513573;-118.39537591489
X-APPLE-STRUCTURED-LOCATION;VALUE=URI;X-ADDRESS=Culver City Hall Patacchia Room 9770 Culver Blvd Culver City CA 90232;X-APPLE-RADIUS=500;X-TITLE=9770 Culver Blvd:geo:-118.39537591489,34.021172513573
END:VEVENT
BEGIN:VEVENT
DTSTART;TZID=America/Los_Angeles:20300903T130000
DTEND;TZID=America/Los_Angeles:20300903T150000
DTSTAMP:20260420T184600
CREATED:20240222T051347Z
LAST-MODIFIED:20240307T060523Z
UID:10003793-1914670800-1914678000@safecleanwaterla.org
SUMMARY:Central Santa Monica Bay WASC Meeting
DESCRIPTION:Watershed Area Steering Committees (WASCs) are comprised of representatives from cities\, agencies\, and community stakeholders. They meet regularly to review proposed projects and develop investment plans for their watershed.  Visit the Central Santa Monica Bay WASC page for more information. \nCommittee Members are expected to attend the meeting in-person.  Members of the public may participate in-person or online by using the Webex meeting information provided.
URL:https://safecleanwaterla.org/event/central-santa-monica-bay-wasc-meeting/2030-09-03/
LOCATION:Culver City Hall\, Patacchia Room\,\, 9770 Culver Blvd\, Culver City\, CA\, 90232
GEO:34.021172513573;-118.39537591489
X-APPLE-STRUCTURED-LOCATION;VALUE=URI;X-ADDRESS=Culver City Hall Patacchia Room 9770 Culver Blvd Culver City CA 90232;X-APPLE-RADIUS=500;X-TITLE=9770 Culver Blvd:geo:-118.39537591489,34.021172513573
END:VEVENT
BEGIN:VEVENT
DTSTART;TZID=America/Los_Angeles:20301001T130000
DTEND;TZID=America/Los_Angeles:20301001T150000
DTSTAMP:20260420T184600
CREATED:20240222T051347Z
LAST-MODIFIED:20240307T060523Z
UID:10003865-1917090000-1917097200@safecleanwaterla.org
SUMMARY:Central Santa Monica Bay WASC Meeting
DESCRIPTION:Watershed Area Steering Committees (WASCs) are comprised of representatives from cities\, agencies\, and community stakeholders. They meet regularly to review proposed projects and develop investment plans for their watershed.  Visit the Central Santa Monica Bay WASC page for more information. \nCommittee Members are expected to attend the meeting in-person.  Members of the public may participate in-person or online by using the Webex meeting information provided.
URL:https://safecleanwaterla.org/event/central-santa-monica-bay-wasc-meeting/2030-10-01/
LOCATION:Culver City Hall\, Patacchia Room\,\, 9770 Culver Blvd\, Culver City\, CA\, 90232
GEO:34.021172513573;-118.39537591489
X-APPLE-STRUCTURED-LOCATION;VALUE=URI;X-ADDRESS=Culver City Hall Patacchia Room 9770 Culver Blvd Culver City CA 90232;X-APPLE-RADIUS=500;X-TITLE=9770 Culver Blvd:geo:-118.39537591489,34.021172513573
END:VEVENT
BEGIN:VEVENT
DTSTART;TZID=America/Los_Angeles:20301105T130000
DTEND;TZID=America/Los_Angeles:20301105T150000
DTSTAMP:20260420T184600
CREATED:20240222T051347Z
LAST-MODIFIED:20240307T060523Z
UID:10003866-1920114000-1920121200@safecleanwaterla.org
SUMMARY:Central Santa Monica Bay WASC Meeting
DESCRIPTION:Watershed Area Steering Committees (WASCs) are comprised of representatives from cities\, agencies\, and community stakeholders. They meet regularly to review proposed projects and develop investment plans for their watershed.  Visit the Central Santa Monica Bay WASC page for more information. \nCommittee Members are expected to attend the meeting in-person.  Members of the public may participate in-person or online by using the Webex meeting information provided.
URL:https://safecleanwaterla.org/event/central-santa-monica-bay-wasc-meeting/2030-11-05/
LOCATION:Culver City Hall\, Patacchia Room\,\, 9770 Culver Blvd\, Culver City\, CA\, 90232
GEO:34.021172513573;-118.39537591489
X-APPLE-STRUCTURED-LOCATION;VALUE=URI;X-ADDRESS=Culver City Hall Patacchia Room 9770 Culver Blvd Culver City CA 90232;X-APPLE-RADIUS=500;X-TITLE=9770 Culver Blvd:geo:-118.39537591489,34.021172513573
END:VEVENT
BEGIN:VEVENT
DTSTART;TZID=America/Los_Angeles:20301203T130000
DTEND;TZID=America/Los_Angeles:20301203T150000
DTSTAMP:20260420T184600
CREATED:20240222T051347Z
LAST-MODIFIED:20240307T060523Z
UID:10003881-1922533200-1922540400@safecleanwaterla.org
SUMMARY:Central Santa Monica Bay WASC Meeting
DESCRIPTION:Watershed Area Steering Committees (WASCs) are comprised of representatives from cities\, agencies\, and community stakeholders. They meet regularly to review proposed projects and develop investment plans for their watershed.  Visit the Central Santa Monica Bay WASC page for more information. \nCommittee Members are expected to attend the meeting in-person.  Members of the public may participate in-person or online by using the Webex meeting information provided.
URL:https://safecleanwaterla.org/event/central-santa-monica-bay-wasc-meeting/2030-12-03/
LOCATION:Culver City Hall\, Patacchia Room\,\, 9770 Culver Blvd\, Culver City\, CA\, 90232
GEO:34.021172513573;-118.39537591489
X-APPLE-STRUCTURED-LOCATION;VALUE=URI;X-ADDRESS=Culver City Hall Patacchia Room 9770 Culver Blvd Culver City CA 90232;X-APPLE-RADIUS=500;X-TITLE=9770 Culver Blvd:geo:-118.39537591489,34.021172513573
END:VEVENT
BEGIN:VEVENT
DTSTART;TZID=America/Los_Angeles:20310107T130000
DTEND;TZID=America/Los_Angeles:20310107T150000
DTSTAMP:20260420T184600
CREATED:20240222T051347Z
LAST-MODIFIED:20240307T060523Z
UID:10003885-1925557200-1925564400@safecleanwaterla.org
SUMMARY:Central Santa Monica Bay WASC Meeting
DESCRIPTION:Watershed Area Steering Committees (WASCs) are comprised of representatives from cities\, agencies\, and community stakeholders. They meet regularly to review proposed projects and develop investment plans for their watershed.  Visit the Central Santa Monica Bay WASC page for more information. \nCommittee Members are expected to attend the meeting in-person.  Members of the public may participate in-person or online by using the Webex meeting information provided.
URL:https://safecleanwaterla.org/event/central-santa-monica-bay-wasc-meeting/2031-01-07/
LOCATION:Culver City Hall\, Patacchia Room\,\, 9770 Culver Blvd\, Culver City\, CA\, 90232
GEO:34.021172513573;-118.39537591489
X-APPLE-STRUCTURED-LOCATION;VALUE=URI;X-ADDRESS=Culver City Hall Patacchia Room 9770 Culver Blvd Culver City CA 90232;X-APPLE-RADIUS=500;X-TITLE=9770 Culver Blvd:geo:-118.39537591489,34.021172513573
END:VEVENT
BEGIN:VEVENT
DTSTART;TZID=America/Los_Angeles:20310204T130000
DTEND;TZID=America/Los_Angeles:20310204T150000
DTSTAMP:20260420T184600
CREATED:20240222T051347Z
LAST-MODIFIED:20240307T060523Z
UID:10003898-1927976400-1927983600@safecleanwaterla.org
SUMMARY:Central Santa Monica Bay WASC Meeting
DESCRIPTION:Watershed Area Steering Committees (WASCs) are comprised of representatives from cities\, agencies\, and community stakeholders. They meet regularly to review proposed projects and develop investment plans for their watershed.  Visit the Central Santa Monica Bay WASC page for more information. \nCommittee Members are expected to attend the meeting in-person.  Members of the public may participate in-person or online by using the Webex meeting information provided.
URL:https://safecleanwaterla.org/event/central-santa-monica-bay-wasc-meeting/2031-02-04/
LOCATION:Culver City Hall\, Patacchia Room\,\, 9770 Culver Blvd\, Culver City\, CA\, 90232
GEO:34.021172513573;-118.39537591489
X-APPLE-STRUCTURED-LOCATION;VALUE=URI;X-ADDRESS=Culver City Hall Patacchia Room 9770 Culver Blvd Culver City CA 90232;X-APPLE-RADIUS=500;X-TITLE=9770 Culver Blvd:geo:-118.39537591489,34.021172513573
END:VEVENT
BEGIN:VEVENT
DTSTART;TZID=America/Los_Angeles:20310304T130000
DTEND;TZID=America/Los_Angeles:20310304T150000
DTSTAMP:20260420T184600
CREATED:20240222T051347Z
LAST-MODIFIED:20240307T060523Z
UID:10003916-1930395600-1930402800@safecleanwaterla.org
SUMMARY:Central Santa Monica Bay WASC Meeting
DESCRIPTION:Watershed Area Steering Committees (WASCs) are comprised of representatives from cities\, agencies\, and community stakeholders. They meet regularly to review proposed projects and develop investment plans for their watershed.  Visit the Central Santa Monica Bay WASC page for more information. \nCommittee Members are expected to attend the meeting in-person.  Members of the public may participate in-person or online by using the Webex meeting information provided.
URL:https://safecleanwaterla.org/event/central-santa-monica-bay-wasc-meeting/2031-03-04/
LOCATION:Culver City Hall\, Patacchia Room\,\, 9770 Culver Blvd\, Culver City\, CA\, 90232
GEO:34.021172513573;-118.39537591489
X-APPLE-STRUCTURED-LOCATION;VALUE=URI;X-ADDRESS=Culver City Hall Patacchia Room 9770 Culver Blvd Culver City CA 90232;X-APPLE-RADIUS=500;X-TITLE=9770 Culver Blvd:geo:-118.39537591489,34.021172513573
END:VEVENT
END:VCALENDAR