BEGIN:VCALENDAR
VERSION:2.0
PRODID:-//Safe Clean Water LA - ECPv6.15.20//NONSGML v1.0//EN
CALSCALE:GREGORIAN
METHOD:PUBLISH
X-WR-CALNAME:Safe Clean Water LA
X-ORIGINAL-URL:https://safecleanwaterla.org
X-WR-CALDESC:Events for Safe Clean Water LA
REFRESH-INTERVAL;VALUE=DURATION:PT1H
X-Robots-Tag:noindex
X-PUBLISHED-TTL:PT1H
BEGIN:VTIMEZONE
TZID:America/Los_Angeles
BEGIN:DAYLIGHT
TZOFFSETFROM:-0800
TZOFFSETTO:-0700
TZNAME:PDT
DTSTART:20250309T100000
END:DAYLIGHT
BEGIN:STANDARD
TZOFFSETFROM:-0700
TZOFFSETTO:-0800
TZNAME:PST
DTSTART:20251102T090000
END:STANDARD
BEGIN:DAYLIGHT
TZOFFSETFROM:-0800
TZOFFSETTO:-0700
TZNAME:PDT
DTSTART:20260308T100000
END:DAYLIGHT
BEGIN:STANDARD
TZOFFSETFROM:-0700
TZOFFSETTO:-0800
TZNAME:PST
DTSTART:20261101T090000
END:STANDARD
BEGIN:DAYLIGHT
TZOFFSETFROM:-0800
TZOFFSETTO:-0700
TZNAME:PDT
DTSTART:20270314T100000
END:DAYLIGHT
BEGIN:STANDARD
TZOFFSETFROM:-0700
TZOFFSETTO:-0800
TZNAME:PST
DTSTART:20271107T090000
END:STANDARD
END:VTIMEZONE
BEGIN:VEVENT
DTSTART;TZID=America/Los_Angeles:20260421T090000
DTEND;TZID=America/Los_Angeles:20260421T150000
DTSTAMP:20260419T104517
CREATED:20260219T012232Z
LAST-MODIFIED:20260419T050734Z
UID:10003911-1776762000-1776783600@safecleanwaterla.org
SUMMARY:CSUDH Earth Day Festival
DESCRIPTION:Join us for CSUDH’s 19th Annual Earth Day Festival! Enjoy activities\, giveaways & networking. Celebrate sustainability with CSU Dominguez Hills! Enjoy interactive activities\, giveaways\, and connect with 30+ organizations dedicated to environmental action on campus and across Los Angeles. \n \n\nShop fresh & local at the weekly CSUDH Farmers Market\nHonor sustainability leaders at the Green Hero Ceremony\nPlay Earth Day Booth Bingo for a chance to win eco-friendly prizes!\nNetwork with sustainability organizations to explore volunteer\, internship\, and career opportunities!
URL:https://safecleanwaterla.org/event/csudh-earth-day-festival/
LOCATION:California State University\, 803 E Victoria St\, Carson\, CA\, United States
GEO:33.867143;-118.260697
X-APPLE-STRUCTURED-LOCATION;VALUE=URI;X-ADDRESS=California State University 803 E Victoria St Carson CA United States;X-APPLE-RADIUS=500;X-TITLE=803 E Victoria St:geo:-118.260697,33.867143
END:VEVENT
END:VCALENDAR