BEGIN:VCALENDAR
VERSION:2.0
PRODID:-//Safe Clean Water LA - ECPv6.15.20//NONSGML v1.0//EN
CALSCALE:GREGORIAN
METHOD:PUBLISH
X-ORIGINAL-URL:https://safecleanwaterla.org
X-WR-CALDESC:Events for Safe Clean Water LA
REFRESH-INTERVAL;VALUE=DURATION:PT1H
X-Robots-Tag:noindex
X-PUBLISHED-TTL:PT1H
BEGIN:VTIMEZONE
TZID:America/Los_Angeles
BEGIN:DAYLIGHT
TZOFFSETFROM:-0800
TZOFFSETTO:-0700
TZNAME:PDT
DTSTART:20240310T100000
END:DAYLIGHT
BEGIN:STANDARD
TZOFFSETFROM:-0700
TZOFFSETTO:-0800
TZNAME:PST
DTSTART:20241103T090000
END:STANDARD
BEGIN:DAYLIGHT
TZOFFSETFROM:-0800
TZOFFSETTO:-0700
TZNAME:PDT
DTSTART:20250309T100000
END:DAYLIGHT
BEGIN:STANDARD
TZOFFSETFROM:-0700
TZOFFSETTO:-0800
TZNAME:PST
DTSTART:20251102T090000
END:STANDARD
BEGIN:DAYLIGHT
TZOFFSETFROM:-0800
TZOFFSETTO:-0700
TZNAME:PDT
DTSTART:20260308T100000
END:DAYLIGHT
BEGIN:STANDARD
TZOFFSETFROM:-0700
TZOFFSETTO:-0800
TZNAME:PST
DTSTART:20261101T090000
END:STANDARD
END:VTIMEZONE
BEGIN:VEVENT
DTSTART;TZID=America/Los_Angeles:20251115T100000
DTEND;TZID=America/Los_Angeles:20251115T140000
DTSTAMP:20260423T163128
CREATED:20251015T123737Z
LAST-MODIFIED:20251115T142230Z
UID:10003830-1763200800-1763215200@safecleanwaterla.org
SUMMARY:Clean and Green Festival
DESCRIPTION:Come visit our booth at the Clean and Green Festival Saturday\, November 15th 10am – 2pm. The festival is a free\, family-friendly event that will highlight sustainability efforts\, community resources\, and hands-on activities for all ages.
URL:https://safecleanwaterla.org/event/clean-and-green-festival/
LOCATION:A. K. Warren Water Resource Facility\, 23599 S Figueroa St\, Carson\, CA\, United States
GEO:33.810035;-118.285309
X-APPLE-STRUCTURED-LOCATION;VALUE=URI;X-ADDRESS=A. K. Warren Water Resource Facility 23599 S Figueroa St Carson CA United States;X-APPLE-RADIUS=500;X-TITLE=23599 S Figueroa St:geo:-118.285309,33.810035
END:VEVENT
END:VCALENDAR